BEGIN:VCALENDAR
VERSION:2.0
PRODID:floktu.com
X-PUBLISHED-TTL:P1W
BEGIN:VEVENT
UID:FloktuEvent34071@floktu.com
DTSTART:20251126T230000Z
SEQUENCE:0
TRANSP:OPAQUE
DTEND:20251127T030000Z
LOCATION:Noida\, \, Noida\, Uttar Pradesh
SUMMARY:Noida escorts
DESCRIPTION:Visit https://noidaescorts.floktu.com for more information.
DTSTAMP:20260422T075652Z
END:VEVENT
END:VCALENDAR